BEGIN:VCALENDAR
VERSION:2.0
PRODID:El Segundo Calendar Creator
METHOD:PUBLISH
BEGIN:VEVENT
DTSTAMP:20230323T072538
DTSTART:20230323T180000
DTEND:20230323T190000
SUMMARY:CANCELLED - CIPAC Meeting 03-23-23
DESCRIPTION:REGULAR MEETING OF THE CAPITAL IMPROVEMENT PROGRAM ADVISORY COMMITTEE (CIPAC) FOR THURSDAY MARCH 23, 2023 HAS BEEN CANCELLED.
X-ALT-DESC;FMTTYPE=text/html:REGULAR MEETING OF THE CAPITAL IMPROVEMENT PROGRAM ADVISORY COMMITTEE (CIPAC) FOR THURSDAY MARCH 23, 2023 HAS BEEN CANCELLED.
LOCATION:HR Conference Room\, 350 Main Street El Segundo\, California 90245
CLASS:PUBLIC
END:VEVENT
END:VCALENDAR
