BEGIN:VCALENDAR
VERSION:2.0
PRODID:El Segundo Calendar Creator
METHOD:PUBLISH
BEGIN:VEVENT
DTSTAMP:20230315T141530
DTSTART:20230323T180000
DTEND:20230323T200000
SUMMARY:Roundtable Discussion Workshop for El Segundo Street Banner Project
DESCRIPTION:<p>Join Soo Kim, Visual-Artists-in-Community Program recipient, in the creative process. You can help shape the outcome of Kim's street banner series, which will be on display along Main Street.&nbsp;</p><p>Ages 13 to adult are invited to participate.&nbsp; This workshop will be held in the Library's Sue Carter Community Room.</p><p>Please <a href="https://www.elsegundolibrary.org/home/showdocument?id=6749&amp;t=638143883507621882" target="_blank">CLICK HERE </a>to view the flyer.</p>
X-ALT-DESC;FMTTYPE=text/html:<p>Join Soo Kim, Visual-Artists-in-Community Program recipient, in the creative process. You can help shape the outcome of Kim's street banner series, which will be on display along Main Street.&nbsp;</p><p>Ages 13 to adult are invited to participate.&nbsp; This workshop will be held in the Library's Sue Carter Community Room.</p><p>Please <a href="https://www.elsegundolibrary.org/home/showdocument?id=6749&amp;t=638143883507621882" target="_blank">CLICK HERE </a>to view the flyer.</p>
LOCATION:El Segundo Public Library\, 111 W. Mariposa Avenue El Segundo\, California 90245
CLASS:PUBLIC
END:VEVENT
END:VCALENDAR
