BEGIN:VCALENDAR
VERSION:2.0
PRODID:El Segundo Calendar Creator
METHOD:PUBLISH
BEGIN:VEVENT
DTSTAMP:20230308T160551
DTSTART:20230308T180000
DTEND:20230308T200000
SUMMARY:Diversity Equity, and Inclusion Committee Meeting - CANCELED
DESCRIPTION:<p>The Wednesday, March 8, 2023 meeting of the Diversity, Equity and Inclusion Committee has been canceled due to lack of quorum.</p><p>&nbsp;</p><p>Meeting <a href="https://www.elsegundo.gov/home/showpublisheddocument/6677/638134571113770000" target="_blank">Minutes</a> - February 8th, 2023</p>
X-ALT-DESC;FMTTYPE=text/html:<p>The Wednesday, March 8, 2023 meeting of the Diversity, Equity and Inclusion Committee has been canceled due to lack of quorum.</p><p>&nbsp;</p><p>Meeting <a href="https://www.elsegundo.gov/home/showpublisheddocument/6677/638134571113770000" target="_blank">Minutes</a> - February 8th, 2023</p>
LOCATION:350 Main Street (West Conference Room)\, 350 Main Street El Segundo\, California 90245
CLASS:PUBLIC
END:VEVENT
END:VCALENDAR
