BEGIN:VCALENDAR
VERSION:2.0
PRODID:El Segundo Calendar Creator
METHOD:PUBLISH
BEGIN:VEVENT
DTSTAMP:20230222T132033
DTSTART:20230317T200000
DTEND:20230317T220000
SUMMARY:Star Party
DESCRIPTION:<p>Join us for a night under the stars at Hilltop Park on March 17th from 8:00 to 10:00pm. The South Bay Astronomical Society will provide telescopes or feel free to bring your own. The event will include a costume contest and scavenger hunt to win prizes! Please call 310-524-2700 for more information.</p><p></p><p>&nbsp;</p>
X-ALT-DESC;FMTTYPE=text/html:<p>Join us for a night under the stars at Hilltop Park on March 17th from 8:00 to 10:00pm. The South Bay Astronomical Society will provide telescopes or feel free to bring your own. The event will include a costume contest and scavenger hunt to win prizes! Please call 310-524-2700 for more information.</p><p></p><p>&nbsp;</p>
LOCATION:Hilltop Park\, Corner of Maryland St. & Grand Ave. El Segundo\, California 90245
CLASS:PUBLIC
END:VEVENT
END:VCALENDAR
