BEGIN:VCALENDAR
VERSION:2.0
PRODID:El Segundo Calendar Creator
METHOD:PUBLISH
BEGIN:VEVENT
DTSTAMP:20230505T072444
DTSTART:20230125T180000
DTEND:20230125T190000
SUMMARY:CIPAC Special Meeting 01-25-2023
DESCRIPTION:SPECIAL MEETING OF THE CAPITAL IMPROVEMENT PROGRAM ADVISORY COMMITTEE (CIPAC).&nbsp;
X-ALT-DESC;FMTTYPE=text/html:SPECIAL MEETING OF THE CAPITAL IMPROVEMENT PROGRAM ADVISORY COMMITTEE (CIPAC).&nbsp;
LOCATION:HR Conference Room\, 350 Main Street El Segundo\, California 90245
CLASS:PUBLIC
END:VEVENT
END:VCALENDAR
