BEGIN:VCALENDAR
VERSION:2.0
PRODID:El Segundo Calendar Creator
METHOD:PUBLISH
BEGIN:VEVENT
DTSTAMP:20230207T094944
DTSTART:20230208T180000
DTEND:20230208T200000
SUMMARY:Drawing Workshop for Teens Led by Visual Artist Miles Lewis
DESCRIPTION:<p>El Segundo "Visual Artists in Community Program," Artist Miles Lewis will lead teens (ages 13 to 19) in a workshop that teaches how to observe and draw using a live model.</p><p>All supplies are included in this free program.<br>Workshop hosted in the Library's Sue Carter Community Room.<br>No pre-registration required.</p><p>Questions? Please contact Cultural Arts Coordinator Sam Lee<br>at 310-524-2771 or slee3@elsegundo.org.</p><p>This program is funded by the City's Cultural Development Program.</p><div></div>
X-ALT-DESC;FMTTYPE=text/html:<p>El Segundo "Visual Artists in Community Program," Artist Miles Lewis will lead teens (ages 13 to 19) in a workshop that teaches how to observe and draw using a live model.</p><p>All supplies are included in this free program.<br>Workshop hosted in the Library's Sue Carter Community Room.<br>No pre-registration required.</p><p>Questions? Please contact Cultural Arts Coordinator Sam Lee<br>at 310-524-2771 or slee3@elsegundo.org.</p><p>This program is funded by the City's Cultural Development Program.</p><div></div>
LOCATION:El Segundo Public Library\, 111 W. Mariposa Avenue El Segundo\, California 90245
CLASS:PUBLIC
END:VEVENT
END:VCALENDAR
