BEGIN:VCALENDAR
VERSION:2.0
PRODID:El Segundo Calendar Creator
METHOD:PUBLISH
BEGIN:VEVENT
DTSTAMP:20231121T090828
DTSTART:20231207T150000
DTEND:20231207T190000
SUMMARY:Joy Around the World: Festival of Holidays and Tree Lighting
DESCRIPTION:<p></p><p>The Recreation, Parks, and Library Department proudly presents our annual <strong><em>Joy Around the World: Festival of Holidays and Tree Lighting</em> event on Thursday, December 7, 2023, from 3:00pm-7:00pm.</strong> The event takes place at City Hall Plaza and the 300 block of Main Street. This free, family-friendly outdoor event combines El Segundo’s Christmas Tree Lighting tradition with the celebration of winter holidays from around the world, including Christmas, Diwali, Hanukkah, Kwanzaa, Nochebuena, and Ōmisoka.<br><br>Guests attending the event will enjoy live music and cultural dance performances, Christmas tree lighting, a visit with Santa Claus and gift giveaway, kids’ train ride, food trucks offering multicultural cuisines, craft-making stations, handmade jewelry and crafts for purchase, and more! This event is free to the public.<br><br>Santa will arrive shortly after 3:00pm for pictures with guests. A “fast pass” wristband will be available at the Joslyn Center in Recreation Park starting Monday, November 20th. Wristbands will be available to El Segundo residents with a valid 2023 or 2024 Recreation ID card. Please note “fast pass” wristbands are limited. If you have a fast pass wristband, you must be in the fast pass line prior to the tree lighting ceremony at 5:30pm.<br><br>For more information, please contact 310-524-2700.</p><p><iframe src="https://www.youtube.com/embed/Hh4Ec5Dxq3Q" width="400" allowfullscreen="" height="300" frameborder="0"></iframe><br><div></div></p>
X-ALT-DESC;FMTTYPE=text/html:<p></p><p>The Recreation, Parks, and Library Department proudly presents our annual <strong><em>Joy Around the World: Festival of Holidays and Tree Lighting</em> event on Thursday, December 7, 2023, from 3:00pm-7:00pm.</strong> The event takes place at City Hall Plaza and the 300 block of Main Street. This free, family-friendly outdoor event combines El Segundo’s Christmas Tree Lighting tradition with the celebration of winter holidays from around the world, including Christmas, Diwali, Hanukkah, Kwanzaa, Nochebuena, and Ōmisoka.<br><br>Guests attending the event will enjoy live music and cultural dance performances, Christmas tree lighting, a visit with Santa Claus and gift giveaway, kids’ train ride, food trucks offering multicultural cuisines, craft-making stations, handmade jewelry and crafts for purchase, and more! This event is free to the public.<br><br>Santa will arrive shortly after 3:00pm for pictures with guests. A “fast pass” wristband will be available at the Joslyn Center in Recreation Park starting Monday, November 20th. Wristbands will be available to El Segundo residents with a valid 2023 or 2024 Recreation ID card. Please note “fast pass” wristbands are limited. If you have a fast pass wristband, you must be in the fast pass line prior to the tree lighting ceremony at 5:30pm.<br><br>For more information, please contact 310-524-2700.</p><p><iframe src="https://www.youtube.com/embed/Hh4Ec5Dxq3Q" width="400" allowfullscreen="" height="300" frameborder="0"></iframe><br><div></div></p>
LOCATION:City Hall Plaza\, 350 Main St El Segundo\, California 90245
CLASS:PUBLIC
END:VEVENT
END:VCALENDAR
