BEGIN:VCALENDAR
VERSION:2.0
PRODID:El Segundo Calendar Creator
METHOD:PUBLISH
BEGIN:VEVENT
DTSTAMP:20230927T145405
DTSTART:20231028T120000
DTEND:20231028T160000
SUMMARY:Halloween Frolic
DESCRIPTION:<p></p><p>Join us at our annual Halloween Frolic on Saturday, October 28th from 12:00 p.m. - 4:00 p.m. on the 300 &amp; 400 blocks of Main Street. It will be a spook-tacular day filled with bounce houses, arts &amp; crafts, games, music, food, and more! </p><p>Wristbands will be available for $8.00 pre-sale starting on October 11th at the Clubhouse and Joslyn Center.</p>
X-ALT-DESC;FMTTYPE=text/html:<p></p><p>Join us at our annual Halloween Frolic on Saturday, October 28th from 12:00 p.m. - 4:00 p.m. on the 300 &amp; 400 blocks of Main Street. It will be a spook-tacular day filled with bounce houses, arts &amp; crafts, games, music, food, and more! </p><p>Wristbands will be available for $8.00 pre-sale starting on October 11th at the Clubhouse and Joslyn Center.</p>
LOCATION:City Hall Plaza\, 350 Main St El Segundo\, California 90245
CLASS:PUBLIC
END:VEVENT
END:VCALENDAR
