BEGIN:VCALENDAR
VERSION:2.0
PRODID:El Segundo Calendar Creator
METHOD:PUBLISH
BEGIN:VEVENT
DTSTAMP:20230803T105304
DTSTART:20230806T110000
DTEND:20230806T140000
SUMMARY:Go-Fly-A-Kite Day
DESCRIPTION:
X-ALT-DESC;FMTTYPE=text/html:
LOCATION:Recreation Park\, 401 Sheldon Street El Segundo\, California 90245
CLASS:PUBLIC
END:VEVENT
END:VCALENDAR
