BEGIN:VCALENDAR
VERSION:2.0
PRODID:El Segundo Calendar Creator
METHOD:PUBLISH
BEGIN:VEVENT
DTSTAMP:20230803T105236
DTSTART:20230806T160000
DTEND:20230806T190000
SUMMARY:Summer Concert - Journey USA
DESCRIPTION:Our fifth and final concert will be featuring Journey USA, a Journey tribute. The concert starts at 4:30pm in Library Park with food trucks lining up at 4:00pm. Bring an appetite and get ready to sing along!<br><br>Kids crafts, games, and giveaways will be available in the Gazebo starting at 4:00pm. Blankets can be placed in the Park after 1:00pm. Chairs are allowed but no glass containers or plastic tarps please. Dogs are welcomed but must be on a leash.<br><br>All ages are welcome to come and enjoy afternoons of great entertainment!<u1:p></u1:p>
X-ALT-DESC;FMTTYPE=text/html:Our fifth and final concert will be featuring Journey USA, a Journey tribute. The concert starts at 4:30pm in Library Park with food trucks lining up at 4:00pm. Bring an appetite and get ready to sing along!<br><br>Kids crafts, games, and giveaways will be available in the Gazebo starting at 4:00pm. Blankets can be placed in the Park after 1:00pm. Chairs are allowed but no glass containers or plastic tarps please. Dogs are welcomed but must be on a leash.<br><br>All ages are welcome to come and enjoy afternoons of great entertainment!<u1:p></u1:p>
LOCATION:Library Park\, 600 Block of Main Street El Segundo\, California 90245
CLASS:PUBLIC
END:VEVENT
END:VCALENDAR
