BEGIN:VCALENDAR
VERSION:2.0
PRODID:El Segundo Calendar Creator
METHOD:PUBLISH
BEGIN:VEVENT
DTSTAMP:20241118T084230
DTSTART:20230118T180000
DTEND:20230118T200000
SUMMARY:Diversity Equity, and Inclusion Special Committee Meeting
DESCRIPTION:<p>&nbsp;</p><p><b>MEETING AGENDA:&nbsp;<a href="https://www.elsegundo.gov/home/showpublisheddocument/6435/638095572595470000" target="_blank">DEI Committee  Special Meeting Agenda_01.18.2023 Final Agenda PDF</a></b></p><p><b>&nbsp;</b></p><p><b>MEETING MINUTES 1.11.23:&nbsp;<a href="https://www.elsegundo.gov/home/showpublisheddocument/6431/638095553583000000" target="_blank">DEI 1.11.2023  Minutes PDF</a></b></p><p><b>&nbsp;</b></p><p><b>DEI Updated Bylaws:&nbsp;<a href="https://www.elsegundo.gov/home/showpublisheddocument/6334/638061876414330000" target="_blank">Diversity Equity and Inclusion Committee Bylaws PDF</a></b></p>
X-ALT-DESC;FMTTYPE=text/html:<p>&nbsp;</p><p><b>MEETING AGENDA:&nbsp;<a href="https://www.elsegundo.gov/home/showpublisheddocument/6435/638095572595470000" target="_blank">DEI Committee  Special Meeting Agenda_01.18.2023 Final Agenda PDF</a></b></p><p><b>&nbsp;</b></p><p><b>MEETING MINUTES 1.11.23:&nbsp;<a href="https://www.elsegundo.gov/home/showpublisheddocument/6431/638095553583000000" target="_blank">DEI 1.11.2023  Minutes PDF</a></b></p><p><b>&nbsp;</b></p><p><b>DEI Updated Bylaws:&nbsp;<a href="https://www.elsegundo.gov/home/showpublisheddocument/6334/638061876414330000" target="_blank">Diversity Equity and Inclusion Committee Bylaws PDF</a></b></p>
LOCATION:City Hall (West Conference Room)\, 350 Main St El Segundo\, California 90245
CLASS:PUBLIC
END:VEVENT
END:VCALENDAR
