BEGIN:VCALENDAR
VERSION:2.0
PRODID:El Segundo Calendar Creator
METHOD:PUBLISH
BEGIN:VEVENT
DTSTAMP:20230105T085639
DTSTART:20230105T150000
DTEND:20230105T190000
SUMMARY:Farmers' Market - CANCELED
DESCRIPTION:<p>Due to forecasted rain, the Farmers' Market is canceled today, Thursday, January 5, 2023.</p><p>Weather providing, the Farmers' Market is expected to resume its usual schedule next week on Thursday January 12, 2023 from 3:00 p.m. - 7:00 p.m. on the 300 block of Main Street in downtown El Segundo.</p><p><strong>For any questions or additional information, please contact Shawn Green,&nbsp;</strong><strong>Recreation Supervisor, at&nbsp;<a href="mailto:sgreen@elsegundo.org" target="_blank" rel="noopener">sgreen@elsegundo.org</a>.</strong></p>
X-ALT-DESC;FMTTYPE=text/html:<p>Due to forecasted rain, the Farmers' Market is canceled today, Thursday, January 5, 2023.</p><p>Weather providing, the Farmers' Market is expected to resume its usual schedule next week on Thursday January 12, 2023 from 3:00 p.m. - 7:00 p.m. on the 300 block of Main Street in downtown El Segundo.</p><p><strong>For any questions or additional information, please contact Shawn Green,&nbsp;</strong><strong>Recreation Supervisor, at&nbsp;<a href="mailto:sgreen@elsegundo.org" target="_blank" rel="noopener">sgreen@elsegundo.org</a>.</strong></p>
LOCATION:
CLASS:PUBLIC
END:VEVENT
END:VCALENDAR
