BEGIN:VCALENDAR
VERSION:2.0
PRODID:El Segundo Calendar Creator
METHOD:PUBLISH
BEGIN:VEVENT
DTSTAMP:20230117T124822
DTSTART:20230111T180000
DTEND:20230111T200000
SUMMARY:Diversity Equity, and Inclusion Committee Meeting
DESCRIPTION:<p>&nbsp;</p><p><strong>MEMBER COMMUNICATION 1.11.2023:&nbsp;<a href="https://www.elsegundo.gov/home/showpublisheddocument/6376/638084316673400000" target="_blank">Rabbi Yussman's Letter of Resignation</a></strong></p><p><b>&nbsp;</b></p><p><b>MEETING AGENDA:&nbsp;<a href="https://www.elsegundo.gov/home/showpublisheddocument/6372/638084293548570000" target="_blank">DEI Committee  Meeting Agenda_01.11.2023 FINAL PDF2</a></b></p><p><b>&nbsp;</b></p><p><b>MEETING MINUTES 11.9.22:&nbsp;<a href="https://www.elsegundo.gov/home/showpublisheddocument/6332/638061876000870000" target="_blank">DEI 11.09.2022 Minutes</a></b></p><p><b>&nbsp;</b></p><p><b>DEI Updated Bylaws:&nbsp;<a href="https://www.elsegundo.gov/home/showpublisheddocument/6334/638061876414330000" target="_blank">Diversity Equity and Inclusion Committee Bylaws PDF</a></b></p>
X-ALT-DESC;FMTTYPE=text/html:<p>&nbsp;</p><p><strong>MEMBER COMMUNICATION 1.11.2023:&nbsp;<a href="https://www.elsegundo.gov/home/showpublisheddocument/6376/638084316673400000" target="_blank">Rabbi Yussman's Letter of Resignation</a></strong></p><p><b>&nbsp;</b></p><p><b>MEETING AGENDA:&nbsp;<a href="https://www.elsegundo.gov/home/showpublisheddocument/6372/638084293548570000" target="_blank">DEI Committee  Meeting Agenda_01.11.2023 FINAL PDF2</a></b></p><p><b>&nbsp;</b></p><p><b>MEETING MINUTES 11.9.22:&nbsp;<a href="https://www.elsegundo.gov/home/showpublisheddocument/6332/638061876000870000" target="_blank">DEI 11.09.2022 Minutes</a></b></p><p><b>&nbsp;</b></p><p><b>DEI Updated Bylaws:&nbsp;<a href="https://www.elsegundo.gov/home/showpublisheddocument/6334/638061876414330000" target="_blank">Diversity Equity and Inclusion Committee Bylaws PDF</a></b></p>
LOCATION:City Hall (West Conference Room)\, 350 Main St El Segundo\, California 90245
CLASS:PUBLIC
END:VEVENT
END:VCALENDAR
