BEGIN:VCALENDAR
VERSION:2.0
PRODID:El Segundo Calendar Creator
METHOD:PUBLISH
BEGIN:VEVENT
DTSTAMP:20230105T165444
DTSTART:20230106T120000
DTEND:20230106T130000
SUMMARY:Environmental Committee Meeting
DESCRIPTION:REGULAR MEETING OF THE EL SEGUNDO ENVIRONMENTAL COMMITTEE&nbsp;
X-ALT-DESC;FMTTYPE=text/html:REGULAR MEETING OF THE EL SEGUNDO ENVIRONMENTAL COMMITTEE&nbsp;
LOCATION:Executive Conference Room\, 350 Main Street El Segundo\, California 90245
CLASS:PUBLIC
END:VEVENT
END:VCALENDAR
