BEGIN:VCALENDAR
VERSION:2.0
PRODID:El Segundo Calendar Creator
METHOD:PUBLISH
BEGIN:VEVENT
DTSTAMP:20230118T094355
DTSTART:20230125T183000
DTEND:20230125T193000
SUMMARY:Author Jeri Westerson in person!
DESCRIPTION:Join us in welcoming back Jeri Westerson as she shares <strong>Courting Dragons</strong>, her first book in the new series <em>A King's Fool Mystery</em>.&nbsp; We will meet on Wednesday, January 25<sup>th</sup> at 6:30 p.m. in the library's Community Room.
X-ALT-DESC;FMTTYPE=text/html:Join us in welcoming back Jeri Westerson as she shares <strong>Courting Dragons</strong>, her first book in the new series <em>A King's Fool Mystery</em>.&nbsp; We will meet on Wednesday, January 25<sup>th</sup> at 6:30 p.m. in the library's Community Room.
LOCATION:El Segundo Public Library\, 111 W. Mariposa Avenue El Segundo\, California 90245
CLASS:PUBLIC
END:VEVENT
END:VCALENDAR
