BEGIN:VCALENDAR
VERSION:2.0
PRODID:El Segundo Calendar Creator
METHOD:PUBLISH
BEGIN:VEVENT
DTSTAMP:20221216T091216
DTSTART:20221209T000000
DTEND:20221210T235900
SUMMARY:DEI (Test event)
DESCRIPTION:Test post&nbsp;
X-ALT-DESC;FMTTYPE=text/html:Test post&nbsp;
LOCATION:
CLASS:PUBLIC
END:VEVENT
END:VCALENDAR
