BEGIN:VCALENDAR
VERSION:2.0
PRODID:El Segundo Calendar Creator
METHOD:PUBLISH
BEGIN:VEVENT
DTSTAMP:20230214T115200
DTSTART:20230117T180000
DTEND:20230117T180000
SUMMARY:City Council Meeting
DESCRIPTION:<p style="text-align: center;">EL SEGUNDO CITY COUNCIL<br>REGULAR MEETING</p><p style="text-align: center;">TUESDAY, JANUARY 17, 2023 at 6:00 PM</p><p style="text-align: center;"><span style="color: rgb(255, 0, 0);">COUNCIL CHAMBER IS OPEN TO THE PUBLIC</span></p><p><strong>Agenda Packet:&nbsp;<a href="https://www.elsegundo.gov/home/showpublisheddocument/6425/638092119048130000" target="_blank">2023-01-17 CC Agenda Packet</a></strong></p><p><strong>Public Communication</strong>:<br><a href="https://docs.elsegundo.org/WebLink/DocView.aspx?id=1196090&amp;dbid=0&amp;repo=COES" target="_blank">2023-01-17 CC Agenda - Public Communication related to Hyperion</a><br><a href="https://docs.elsegundo.org/WebLink/DocView.aspx?id=1196104&amp;dbid=0&amp;repo=COES" target="_blank">2023-01-17 CC Agenda - Public Communication related to Hyperion #2</a>&nbsp;<br><a href="https://www.elsegundo.gov/home/showpublisheddocument/6385/638086162812230000" target="_blank">2023-01-17 CC Agenda - Public Communication related to Hyperion #3</a>&nbsp;&nbsp;<br><a href="https://www.elsegundo.gov/home/showpublisheddocument/6387/638086163238800000" target="_blank" id="Public Communications">2023-01-17 CC Agenda - Public Communication related to Hyperion #4</a>&nbsp;<br><a href="https://www.elsegundo.gov/home/showpublisheddocument/6391/638088685786970000" target="_blank">2023-01-17 CC Agenda - Public Communication related to Hyperion #5</a>&nbsp;<br><a href="https://www.elsegundo.gov/home/showpublisheddocument/6403/638090273290570000" target="_blank">2023-01-17 CC Agenda - Public Communication related to Hyperion #6</a><br><a href="https://www.elsegundo.gov/home/showpublisheddocument/6409/638091121810470000" target="_blank">2023-01-17 CC Agenda - Public Communication related to Hyperion #7</a><br><a href="https://www.elsegundo.gov/home/showpublisheddocument/6411/638091122208470000" target="_blank">2023-01-17 CC Agenda - Public Communication related to Hyperion #8</a><br><a href="https://www.elsegundo.gov/home/showpublisheddocument/6421/638092047487770000" target="_blank" id="2023-01-17 CC Agenda - Public Communication related to Hyperion #9">2023-01-17 CC Agenda - Public Communication related to Hyperion #9</a><br><a href="https://www.elsegundo.gov/home/showpublisheddocument/6429/638095517790300000" target="_blank">2023-01-17 CC Agenda - Public Communication related to Hyperion #10</a></p><p><a href="https://www.elsegundo.gov/home/showpublisheddocument/6439/638095704279370000" target="_blank">2023-01-17 CC Agenda - Public Communication - Misc</a><br><a href="https://www.elsegundo.gov/home/showpublisheddocument/6441/638096228074830000" target="_blank">2023-01-17 CC Agenda - Public Communication - Non-Agenda Item</a></p><p><a href="https://www.elsegundo.gov/home/showpublisheddocument/6427/638095406023630000" target="_blank">2023-01-17 CC Agenda - Public Communication related to Item D9 - Plunge</a></p><p><strong>Presentation:&nbsp;</strong></p><p><a href="https://docs.elsegundo.org/WebLink/DocView.aspx?id=1196136&amp;dbid=0&amp;repo=COES" target="_blank">2023-01-17 CC Agenda - Presentation related to Item D8 - POA</a><br><a href="https://docs.elsegundo.org/WebLink/DocView.aspx?id=1196138&amp;dbid=0&amp;repo=COES" target="_blank">2023-01-17 CC Agenda - Presentation related to Item D9 - Urho Saari Swim Stadium</a><br><a href="https://docs.elsegundo.org/WebLink/DocView.aspx?id=1196139&amp;dbid=0&amp;repo=COES" target="_blank">2023-01-17 CC Agenda - Presentation related to Item D9 - Aquatics Business Plan</a><br><a href="https://docs.elsegundo.org/WebLink/DocView.aspx?id=1196137&amp;dbid=0&amp;repo=COES" target="_blank">2023-01-17 CC Agenda - Presentation related to Item D10 - ESFD 2022 Annual Report</a></p><p><strong>Video</strong>:&nbsp;<a href="https://elsegundo.granicus.com/MediaPlayer.php?view_id=10&amp;clip_id=4597" target="_blank">January 17, 2023 City Council Meeting Video</a></p><p>&nbsp;</p>
X-ALT-DESC;FMTTYPE=text/html:<p style="text-align: center;">EL SEGUNDO CITY COUNCIL<br>REGULAR MEETING</p><p style="text-align: center;">TUESDAY, JANUARY 17, 2023 at 6:00 PM</p><p style="text-align: center;"><span style="color: rgb(255, 0, 0);">COUNCIL CHAMBER IS OPEN TO THE PUBLIC</span></p><p><strong>Agenda Packet:&nbsp;<a href="https://www.elsegundo.gov/home/showpublisheddocument/6425/638092119048130000" target="_blank">2023-01-17 CC Agenda Packet</a></strong></p><p><strong>Public Communication</strong>:<br><a href="https://docs.elsegundo.org/WebLink/DocView.aspx?id=1196090&amp;dbid=0&amp;repo=COES" target="_blank">2023-01-17 CC Agenda - Public Communication related to Hyperion</a><br><a href="https://docs.elsegundo.org/WebLink/DocView.aspx?id=1196104&amp;dbid=0&amp;repo=COES" target="_blank">2023-01-17 CC Agenda - Public Communication related to Hyperion #2</a>&nbsp;<br><a href="https://www.elsegundo.gov/home/showpublisheddocument/6385/638086162812230000" target="_blank">2023-01-17 CC Agenda - Public Communication related to Hyperion #3</a>&nbsp;&nbsp;<br><a href="https://www.elsegundo.gov/home/showpublisheddocument/6387/638086163238800000" target="_blank" id="Public Communications">2023-01-17 CC Agenda - Public Communication related to Hyperion #4</a>&nbsp;<br><a href="https://www.elsegundo.gov/home/showpublisheddocument/6391/638088685786970000" target="_blank">2023-01-17 CC Agenda - Public Communication related to Hyperion #5</a>&nbsp;<br><a href="https://www.elsegundo.gov/home/showpublisheddocument/6403/638090273290570000" target="_blank">2023-01-17 CC Agenda - Public Communication related to Hyperion #6</a><br><a href="https://www.elsegundo.gov/home/showpublisheddocument/6409/638091121810470000" target="_blank">2023-01-17 CC Agenda - Public Communication related to Hyperion #7</a><br><a href="https://www.elsegundo.gov/home/showpublisheddocument/6411/638091122208470000" target="_blank">2023-01-17 CC Agenda - Public Communication related to Hyperion #8</a><br><a href="https://www.elsegundo.gov/home/showpublisheddocument/6421/638092047487770000" target="_blank" id="2023-01-17 CC Agenda - Public Communication related to Hyperion #9">2023-01-17 CC Agenda - Public Communication related to Hyperion #9</a><br><a href="https://www.elsegundo.gov/home/showpublisheddocument/6429/638095517790300000" target="_blank">2023-01-17 CC Agenda - Public Communication related to Hyperion #10</a></p><p><a href="https://www.elsegundo.gov/home/showpublisheddocument/6439/638095704279370000" target="_blank">2023-01-17 CC Agenda - Public Communication - Misc</a><br><a href="https://www.elsegundo.gov/home/showpublisheddocument/6441/638096228074830000" target="_blank">2023-01-17 CC Agenda - Public Communication - Non-Agenda Item</a></p><p><a href="https://www.elsegundo.gov/home/showpublisheddocument/6427/638095406023630000" target="_blank">2023-01-17 CC Agenda - Public Communication related to Item D9 - Plunge</a></p><p><strong>Presentation:&nbsp;</strong></p><p><a href="https://docs.elsegundo.org/WebLink/DocView.aspx?id=1196136&amp;dbid=0&amp;repo=COES" target="_blank">2023-01-17 CC Agenda - Presentation related to Item D8 - POA</a><br><a href="https://docs.elsegundo.org/WebLink/DocView.aspx?id=1196138&amp;dbid=0&amp;repo=COES" target="_blank">2023-01-17 CC Agenda - Presentation related to Item D9 - Urho Saari Swim Stadium</a><br><a href="https://docs.elsegundo.org/WebLink/DocView.aspx?id=1196139&amp;dbid=0&amp;repo=COES" target="_blank">2023-01-17 CC Agenda - Presentation related to Item D9 - Aquatics Business Plan</a><br><a href="https://docs.elsegundo.org/WebLink/DocView.aspx?id=1196137&amp;dbid=0&amp;repo=COES" target="_blank">2023-01-17 CC Agenda - Presentation related to Item D10 - ESFD 2022 Annual Report</a></p><p><strong>Video</strong>:&nbsp;<a href="https://elsegundo.granicus.com/MediaPlayer.php?view_id=10&amp;clip_id=4597" target="_blank">January 17, 2023 City Council Meeting Video</a></p><p>&nbsp;</p>
LOCATION:City Council Chamber\, 350 Main Street El Segundo\, California 90245
CLASS:PUBLIC
END:VEVENT
END:VCALENDAR
