BEGIN:VCALENDAR
VERSION:2.0
PRODID:El Segundo Calendar Creator
METHOD:PUBLISH
BEGIN:VEVENT
DTSTAMP:20221209T130853
DTSTART:20221214T180000
DTEND:20221214T200000
SUMMARY:Diversity, Equity, and Inclusion Committee Meeting
DESCRIPTION:<p>&nbsp;</p><p><strong>MEETING MINUTES 11.09.2022:&nbsp;<a href="https://www.elsegundo.gov/home/showpublisheddocument/6332/638061876000870000" target="_blank">DEI 11.09.2022 Minutes</a></strong></p><p><strong>DIVERSITY EQUITY &amp; INCLUSION COMMITTEE BYLAWS:&nbsp;<a href="https://www.elsegundo.gov/home/showpublisheddocument/6334/638061876414330000" target="_blank">Diversity Equity and Inclusion Committee Bylaws PDF</a></strong></p><p>&nbsp;</p>
X-ALT-DESC;FMTTYPE=text/html:<p>&nbsp;</p><p><strong>MEETING MINUTES 11.09.2022:&nbsp;<a href="https://www.elsegundo.gov/home/showpublisheddocument/6332/638061876000870000" target="_blank">DEI 11.09.2022 Minutes</a></strong></p><p><strong>DIVERSITY EQUITY &amp; INCLUSION COMMITTEE BYLAWS:&nbsp;<a href="https://www.elsegundo.gov/home/showpublisheddocument/6334/638061876414330000" target="_blank">Diversity Equity and Inclusion Committee Bylaws PDF</a></strong></p><p>&nbsp;</p>
LOCATION:350 Main Street (West Conference Room)\, 350 Main Street El Segundo\, California 90245
CLASS:PUBLIC
END:VEVENT
END:VCALENDAR
