BEGIN:VCALENDAR
VERSION:2.0
PRODID:El Segundo Calendar Creator
METHOD:PUBLISH
BEGIN:VEVENT
DTSTAMP:20221024T162558
DTSTART:20221117T180000
DTEND:20221117T193000
SUMMARY:Family Game Night
DESCRIPTION:<p direction-ltr="" align-center="" para-style-body"="">Celebrate National Literacy Month at El Segundo Public Library</p><p>Literacy based craft,&nbsp;snacks and fun Board games!<br>Sue Carter Community Room</p><p direction-ltr="" align-center="" para-style-body"="">For more information, please call 310-524-2726.</p><p>&nbsp;</p>
X-ALT-DESC;FMTTYPE=text/html:<p direction-ltr="" align-center="" para-style-body"="">Celebrate National Literacy Month at El Segundo Public Library</p><p>Literacy based craft,&nbsp;snacks and fun Board games!<br>Sue Carter Community Room</p><p direction-ltr="" align-center="" para-style-body"="">For more information, please call 310-524-2726.</p><p>&nbsp;</p>
LOCATION:El Segundo Public Library\, 111 W. Mariposa Avenue El Segundo\, California 90245
CLASS:PUBLIC
END:VEVENT
END:VCALENDAR
