BEGIN:VCALENDAR
VERSION:2.0
PRODID:El Segundo Calendar Creator
METHOD:PUBLISH
BEGIN:VEVENT
DTSTAMP:20241205T104842
DTSTART:20221031T183000
DTEND:20221031T203000
SUMMARY:Halloween Film Screening in the Library
DESCRIPTION:The library screens a special FREE Halloween evening showing of the film "Happy Death Day" (rated PG-13), beginning at 6:30pm in the Sue Carter Community Room.&nbsp; Call the reference staff for more information at 310-524-2728.
X-ALT-DESC;FMTTYPE=text/html:The library screens a special FREE Halloween evening showing of the film "Happy Death Day" (rated PG-13), beginning at 6:30pm in the Sue Carter Community Room.&nbsp; Call the reference staff for more information at 310-524-2728.
LOCATION:El Segundo Public Library\, 111 W. Mariposa Avenue El Segundo\, California 90245
CLASS:PUBLIC
END:VEVENT
END:VCALENDAR
