BEGIN:VCALENDAR
VERSION:2.0
PRODID:El Segundo Calendar Creator
METHOD:PUBLISH
BEGIN:VEVENT
DTSTAMP:20221028T102941
DTSTART:20221029T140000
DTEND:20221029T160000
SUMMARY:Halloween Film Screening in the Library
DESCRIPTION:Spend your Saturday afternoon at the library and watch a FREE screening of the classic film "Something Wicked This Way Comes."&nbsp;&nbsp;Call the reference staff for more information at 310-524-2728.
X-ALT-DESC;FMTTYPE=text/html:Spend your Saturday afternoon at the library and watch a FREE screening of the classic film "Something Wicked This Way Comes."&nbsp;&nbsp;Call the reference staff for more information at 310-524-2728.
LOCATION:El Segundo Public Library\, 111 W. Mariposa Avenue El Segundo\, California 90245
CLASS:PUBLIC
END:VEVENT
END:VCALENDAR
