BEGIN:VCALENDAR
VERSION:2.0
PRODID:El Segundo Calendar Creator
METHOD:PUBLISH
BEGIN:VEVENT
DTSTAMP:20221014T111557
DTSTART:20221019T140000
DTEND:20221019T150000
SUMMARY:Dia De Los Muertos Altar Craft
DESCRIPTION:Adults 18 &amp; over are invited to callage a frame or shadow box to contribute to the library's community altar.&nbsp; Supplies are provided, but yoy may bring photos or other small personal items to enhance your project.&nbsp; You may contact the reference desk staff for additional info: 310-524-2728.
X-ALT-DESC;FMTTYPE=text/html:Adults 18 &amp; over are invited to callage a frame or shadow box to contribute to the library's community altar.&nbsp; Supplies are provided, but yoy may bring photos or other small personal items to enhance your project.&nbsp; You may contact the reference desk staff for additional info: 310-524-2728.
LOCATION:El Segundo Public Library\, 111 W. Mariposa Avenue El Segundo\, California 90245
CLASS:PUBLIC
END:VEVENT
END:VCALENDAR
