BEGIN:VCALENDAR
VERSION:2.0
PRODID:El Segundo Calendar Creator
METHOD:PUBLISH
BEGIN:VEVENT
DTSTAMP:20221017T160434
DTSTART:20221012T180000
DTEND:20221012T200000
SUMMARY:Diversity, Equity, and Inclusion Committee Meeting
DESCRIPTION:<p>&nbsp;</p><p><a href="https://www.elsegundo.gov/home/showpublisheddocument/6088/638011918338570000" target="_blank">DEI Public Comment 10.12.2022</a></p>
X-ALT-DESC;FMTTYPE=text/html:<p>&nbsp;</p><p><a href="https://www.elsegundo.gov/home/showpublisheddocument/6088/638011918338570000" target="_blank">DEI Public Comment 10.12.2022</a></p>
LOCATION:350 Main Street (West Conference Room)\, 350 Main Street El Segundo\, California 90245
CLASS:PUBLIC
END:VEVENT
END:VCALENDAR
