BEGIN:VCALENDAR
VERSION:2.0
PRODID:El Segundo Calendar Creator
METHOD:PUBLISH
BEGIN:VEVENT
DTSTAMP:20221012T111002
DTSTART:20221013T183000
DTEND:20221013T200000
SUMMARY:City Council Candidate Forum
DESCRIPTION:<p style="text-align: center;"><strong>CITY COUNCIL CANDIDATE FORM<br>OPEN FORUM</strong></p><p style="text-align: center;">Thursday, October 13, 2022 from 6:30 pm to 8:00 pm<br>ESMoA, 208 Main Street, El Segundo</p><p>For information:&nbsp;<a href="https://esmoa.org/event/city-council-candidate-forum/" target="_blank">ESMoA</a></p>
X-ALT-DESC;FMTTYPE=text/html:<p style="text-align: center;"><strong>CITY COUNCIL CANDIDATE FORM<br>OPEN FORUM</strong></p><p style="text-align: center;">Thursday, October 13, 2022 from 6:30 pm to 8:00 pm<br>ESMoA, 208 Main Street, El Segundo</p><p>For information:&nbsp;<a href="https://esmoa.org/event/city-council-candidate-forum/" target="_blank">ESMoA</a></p>
LOCATION:ESMoA\, 208 Main Street El Segundo\, California 90245
CLASS:PUBLIC
END:VEVENT
END:VCALENDAR
