BEGIN:VCALENDAR
VERSION:2.0
PRODID:El Segundo Calendar Creator
METHOD:PUBLISH
BEGIN:VEVENT
DTSTAMP:20241118T084255
DTSTART:20221028T120000
DTEND:20221028T133000
SUMMARY:Environmental Committee Meeting
DESCRIPTION:<p>REGULAR MEETING OF THE EL SEGUNDO PUBLIC WORKS/ENVIRONMENTAL COMMITTEE&nbsp;</p><p>Click below for Minutes from previous meeting.</p><p><a href="https://www.elsegundo.gov/home/showpublisheddocument/6156/638022234407670000" target="_blank">2022-08-05</a><a href="https://www.elsegundo.gov/home/showpublisheddocument/6156/638022234407670000" target="_blank">&nbsp;Environmental Committee Minutes</a></p>
X-ALT-DESC;FMTTYPE=text/html:<p>REGULAR MEETING OF THE EL SEGUNDO PUBLIC WORKS/ENVIRONMENTAL COMMITTEE&nbsp;</p><p>Click below for Minutes from previous meeting.</p><p><a href="https://www.elsegundo.gov/home/showpublisheddocument/6156/638022234407670000" target="_blank">2022-08-05</a><a href="https://www.elsegundo.gov/home/showpublisheddocument/6156/638022234407670000" target="_blank">&nbsp;Environmental Committee Minutes</a></p>
LOCATION:350 Main Street (West Conference Room)\, 350 Main Street El Segundo\, California 90245
CLASS:PUBLIC
END:VEVENT
END:VCALENDAR
