BEGIN:VCALENDAR
VERSION:2.0
PRODID:El Segundo Calendar Creator
METHOD:PUBLISH
BEGIN:VEVENT
DTSTAMP:20221012T110528
DTSTART:20221019T180000
DTEND:20221019T200000
SUMMARY:El Segundo Council Candidates Forum
DESCRIPTION:<p style="text-align: center;"><strong>EL SEGUNDO COUNCIL FORUM<br>ES WOMAN'S CLUB</strong></p><p style="text-align: center;">WEDNESDAY, OCTOBER 19, 2022 at 6:00 PM</p><p style="text-align: left;">For information:&nbsp;<a href="https://www.elsegundowomansclub.org/" target="_blank">El Segundo Woman's Club</a></p>
X-ALT-DESC;FMTTYPE=text/html:<p style="text-align: center;"><strong>EL SEGUNDO COUNCIL FORUM<br>ES WOMAN'S CLUB</strong></p><p style="text-align: center;">WEDNESDAY, OCTOBER 19, 2022 at 6:00 PM</p><p style="text-align: left;">For information:&nbsp;<a href="https://www.elsegundowomansclub.org/" target="_blank">El Segundo Woman's Club</a></p>
LOCATION:El Segundo Woman's Club\, Clubhouse\, 541 Standard Street El Segundo\, California 90245
CLASS:PUBLIC
END:VEVENT
END:VCALENDAR
