BEGIN:VCALENDAR
VERSION:2.0
PRODID:El Segundo Calendar Creator
METHOD:PUBLISH
BEGIN:VEVENT
DTSTAMP:20220920T090957
DTSTART:20220926T150000
DTEND:20220926T163000
SUMMARY:Chess Club
DESCRIPTION:<p direction-ltr="" align-center="" para-style-subtitle"="">Join us for drop-in chess! </p><p direction-ltr="" align-center="" para-style-subtitle"="">Meet other chess players and have fun while learning strategies from each other.</p><p direction-ltr="" align-center="" para-style-heading1"="">In the Youth Services area Chess boards provided or bring your own.</p>
X-ALT-DESC;FMTTYPE=text/html:<p direction-ltr="" align-center="" para-style-subtitle"="">Join us for drop-in chess! </p><p direction-ltr="" align-center="" para-style-subtitle"="">Meet other chess players and have fun while learning strategies from each other.</p><p direction-ltr="" align-center="" para-style-heading1"="">In the Youth Services area Chess boards provided or bring your own.</p>
LOCATION:El Segundo Public Library\, 111 W. Mariposa Avenue El Segundo\, California 90245
CLASS:PUBLIC
END:VEVENT
END:VCALENDAR
