BEGIN:VCALENDAR
VERSION:2.0
PRODID:El Segundo Calendar Creator
METHOD:PUBLISH
BEGIN:VEVENT
DTSTAMP:20220926T082247
DTSTART:20221007T100000
DTEND:20221007T110000
SUMMARY:Just Draw at ESMoA
DESCRIPTION:Join the friendly staff at ESMoA and other adults during this fun and creative social hour.&nbsp; All levels of drawing ability encouraged.&nbsp; Please contact ESMoA for further info at 424-277-1020.
X-ALT-DESC;FMTTYPE=text/html:Join the friendly staff at ESMoA and other adults during this fun and creative social hour.&nbsp; All levels of drawing ability encouraged.&nbsp; Please contact ESMoA for further info at 424-277-1020.
LOCATION:
CLASS:PUBLIC
END:VEVENT
END:VCALENDAR
