BEGIN:VCALENDAR
VERSION:2.0
PRODID:El Segundo Calendar Creator
METHOD:PUBLISH
BEGIN:VEVENT
DTSTAMP:20220919T141607
DTSTART:20221006T140000
DTEND:20221006T150000
SUMMARY:Bingo!
DESCRIPTION:Join us in the Community Room for Bingo.&nbsp; Prizes are included!
X-ALT-DESC;FMTTYPE=text/html:Join us in the Community Room for Bingo.&nbsp; Prizes are included!
LOCATION:El Segundo Public Library\, 111 W. Mariposa Avenue El Segundo\, California 90245
CLASS:PUBLIC
END:VEVENT
END:VCALENDAR
