BEGIN:VCALENDAR
VERSION:2.0
PRODID:El Segundo Calendar Creator
METHOD:PUBLISH
BEGIN:VEVENT
DTSTAMP:20220920T100309
DTSTART:20221004T140000
DTEND:20221004T150000
SUMMARY:Ukulele at the Library
DESCRIPTION:Bring your own ukulele or borrow one of ours. Our supply is very limited and available first come, first served.&nbsp; Meets in the library's Community Room.
X-ALT-DESC;FMTTYPE=text/html:Bring your own ukulele or borrow one of ours. Our supply is very limited and available first come, first served.&nbsp; Meets in the library's Community Room.
LOCATION:El Segundo Public Library\, 111 W. Mariposa Avenue El Segundo\, California 90245
CLASS:PUBLIC
END:VEVENT
END:VCALENDAR
