BEGIN:VCALENDAR
VERSION:2.0
PRODID:El Segundo Calendar Creator
METHOD:PUBLISH
BEGIN:VEVENT
DTSTAMP:20220908T185137
DTSTART:20221123T100000
DTEND:20221123T102000
SUMMARY:Fall Storytime- Baby/Toddler
DESCRIPTION:<p>Fall Storytime in Library Park!</p><p>Bring a blanket and join us weekly for songs, stories and fun!</p><p>Ages 0-2</p>
X-ALT-DESC;FMTTYPE=text/html:<p>Fall Storytime in Library Park!</p><p>Bring a blanket and join us weekly for songs, stories and fun!</p><p>Ages 0-2</p>
LOCATION:Library Park\, 600 Block of Main Street El Segundo\, California 90245
CLASS:PUBLIC
END:VEVENT
END:VCALENDAR
