BEGIN:VCALENDAR
VERSION:2.0
PRODID:El Segundo Calendar Creator
METHOD:PUBLISH
BEGIN:VEVENT
DTSTAMP:20220824T121940
DTSTART:20220920T153000
DTEND:20220920T163000
SUMMARY:Crafteen
DESCRIPTION:Crafteen<br>(Teens 12-17yrs)<br><br>Join us in the Sue Carter Community Room for a fun afternoon of making crafts!<br>All supplies are included.&nbsp;
X-ALT-DESC;FMTTYPE=text/html:Crafteen<br>(Teens 12-17yrs)<br><br>Join us in the Sue Carter Community Room for a fun afternoon of making crafts!<br>All supplies are included.&nbsp;
LOCATION:El Segundo Public Library\, 111 W. Mariposa Avenue El Segundo\, California 90245
CLASS:PUBLIC
END:VEVENT
END:VCALENDAR
