BEGIN:VCALENDAR
VERSION:2.0
PRODID:El Segundo Calendar Creator
METHOD:PUBLISH
BEGIN:VEVENT
DTSTAMP:20220824T105321
DTSTART:20220825T180000
DTEND:20220825T193000
SUMMARY:Best in Show: Dog Portraits by Stephen Holman Reception
DESCRIPTION:"Best in Show: Dog Portraits by Stephen Holman" is on view in the library with a public reception in the Reading Lounge.&nbsp; Also on view is the new "Summertime, Summertime" community art show.
X-ALT-DESC;FMTTYPE=text/html:"Best in Show: Dog Portraits by Stephen Holman" is on view in the library with a public reception in the Reading Lounge.&nbsp; Also on view is the new "Summertime, Summertime" community art show.
LOCATION:El Segundo Public Library\, 111 W. Mariposa Avenue El Segundo\, California 90245
CLASS:PUBLIC
END:VEVENT
END:VCALENDAR
