BEGIN:VCALENDAR
VERSION:2.0
PRODID:El Segundo Calendar Creator
METHOD:PUBLISH
BEGIN:VEVENT
DTSTAMP:20221017T160724
DTSTART:20220413T173000
DTEND:20220413T193000
SUMMARY:Diversity, Equity and Inclusion Committee Meeting
DESCRIPTION:<p><a href="https://www.elsegundo.gov/home/showpublisheddocument/5239/637849420025730000" target="_blank">DEI March 9, 2022 Meeting Minutes</a></p><p><a href="https://www.elsegundo.gov/home/showpublisheddocument/5237/638016107856100000" target="_blank">DEI April 13, 2022 Committee Meeting Agenda</a>&nbsp;</p>
X-ALT-DESC;FMTTYPE=text/html:<p><a href="https://www.elsegundo.gov/home/showpublisheddocument/5239/637849420025730000" target="_blank">DEI March 9, 2022 Meeting Minutes</a></p><p><a href="https://www.elsegundo.gov/home/showpublisheddocument/5237/638016107856100000" target="_blank">DEI April 13, 2022 Committee Meeting Agenda</a>&nbsp;</p>
LOCATION:
CLASS:PUBLIC
END:VEVENT
END:VCALENDAR
