BEGIN:VCALENDAR
VERSION:2.0
PRODID:El Segundo Calendar Creator
METHOD:PUBLISH
BEGIN:VEVENT
DTSTAMP:20220830T093752
DTSTART:20220831T180000
DTEND:20220831T200000
SUMMARY:Joint City Council & Recreation and Parks Commission Meeting
DESCRIPTION:<p>The community is invited to attend and participate at the joint City Council &amp; Recreation and Parks Commission Meeting.</p><p>Please join us for the public discussion about the future of Recreation Park. No RSVP is required. All are welcome to attend.</p><p>Topic: Recreation Parks Needs Assessment</p><p>For more information, call 310-524-2730 or email Recreation, Parks, and Library Director, Aly Mancini at amancini@elsegundo.org.</p>
X-ALT-DESC;FMTTYPE=text/html:<p>The community is invited to attend and participate at the joint City Council &amp; Recreation and Parks Commission Meeting.</p><p>Please join us for the public discussion about the future of Recreation Park. No RSVP is required. All are welcome to attend.</p><p>Topic: Recreation Parks Needs Assessment</p><p>For more information, call 310-524-2730 or email Recreation, Parks, and Library Director, Aly Mancini at amancini@elsegundo.org.</p>
LOCATION:Joslyn Center\, 339 Sheldon Street El Segundo\, California 90245
CLASS:PUBLIC
END:VEVENT
END:VCALENDAR
