BEGIN:VCALENDAR
VERSION:2.0
PRODID:El Segundo Calendar Creator
METHOD:PUBLISH
BEGIN:VEVENT
DTSTAMP:20220824T155308
DTSTART:20220831T153000
DTEND:20220831T161500
SUMMARY:Dog Storytime!
DESCRIPTION:<p>Join us for a dog-themed family storytime &amp; craft. </p><p>Visit the "Best in Show" exhibit in the Library's reading lounge afterward!</p><p>Humans only, please leave pets at home.</p>
X-ALT-DESC;FMTTYPE=text/html:<p>Join us for a dog-themed family storytime &amp; craft. </p><p>Visit the "Best in Show" exhibit in the Library's reading lounge afterward!</p><p>Humans only, please leave pets at home.</p>
LOCATION:El Segundo Public Library\, 111 W. Mariposa Avenue El Segundo\, California 90245
CLASS:PUBLIC
END:VEVENT
END:VCALENDAR
