BEGIN:VCALENDAR
VERSION:2.0
PRODID:El Segundo Calendar Creator
METHOD:PUBLISH
BEGIN:VEVENT
DTSTAMP:20220811T140212
DTSTART:20220924T130000
DTEND:20220924T150000
SUMMARY:Cyanotype Workshop with artist Hadley Holliday
DESCRIPTION:<p>Learn about one of the oldest known photographic processes by attending this Cyanotype Workshop with artist Hadley Holliday.&nbsp; This program will be held in the library's Community Room and supplies will be provided.&nbsp; &nbsp;Adults over 18, please.</p><p>Please call the reference desk at 310-524-2728 if you would like more information.</p>
X-ALT-DESC;FMTTYPE=text/html:<p>Learn about one of the oldest known photographic processes by attending this Cyanotype Workshop with artist Hadley Holliday.&nbsp; This program will be held in the library's Community Room and supplies will be provided.&nbsp; &nbsp;Adults over 18, please.</p><p>Please call the reference desk at 310-524-2728 if you would like more information.</p>
LOCATION:El Segundo Public Library\, 111 W. Mariposa Avenue El Segundo\, California 90245
CLASS:PUBLIC
END:VEVENT
END:VCALENDAR
