BEGIN:VCALENDAR
VERSION:2.0
PRODID:El Segundo Calendar Creator
METHOD:PUBLISH
BEGIN:VEVENT
DTSTAMP:20220822T102506
DTSTART:20220825T180000
DTEND:20220825T190000
SUMMARY:New Kids on the Block a Lego Club
DESCRIPTION:<p direction-ltr="" align-center="" para-style-body"="">Sue Carter Community Room&nbsp;</p><p direction-ltr="" align-center="" para-style-body"="">A Lego building club designed for ages 5-12.</p><p direction-ltr="" align-center="" para-style-body"="">Legos will be available.</p><p direction-ltr="" align-center="" para-style-body"="">For more information contact 310-524-2726.</p>
X-ALT-DESC;FMTTYPE=text/html:<p direction-ltr="" align-center="" para-style-body"="">Sue Carter Community Room&nbsp;</p><p direction-ltr="" align-center="" para-style-body"="">A Lego building club designed for ages 5-12.</p><p direction-ltr="" align-center="" para-style-body"="">Legos will be available.</p><p direction-ltr="" align-center="" para-style-body"="">For more information contact 310-524-2726.</p>
LOCATION:El Segundo Public Library\, 111 W. Mariposa Avenue El Segundo\, California 90245
CLASS:PUBLIC
END:VEVENT
END:VCALENDAR
