BEGIN:VCALENDAR
VERSION:2.0
PRODID:El Segundo Calendar Creator
METHOD:PUBLISH
BEGIN:VEVENT
DTSTAMP:20220801T110029
DTSTART:20220805T120000
DTEND:20220805T133000
SUMMARY:Environmental Committee Meeting
DESCRIPTION:
X-ALT-DESC;FMTTYPE=text/html:
LOCATION:350 Main Street (West Conference Room)\, 350 Main Street El Segundo\, California 90245
CLASS:PUBLIC
END:VEVENT
END:VCALENDAR
