BEGIN:VCALENDAR
VERSION:2.0
PRODID:El Segundo Calendar Creator
METHOD:PUBLISH
BEGIN:VEVENT
DTSTAMP:20220726T134806
DTSTART:20221212T120000
DTEND:20221212T130000
SUMMARY:Craft 'N Chat
DESCRIPTION:Join other adults for the library's crafting social hour.&nbsp; Meetings are on the second and fourth Mondays of the month, from 12 noon-1pm.&nbsp; If you would like more information, please call the reference desk at 310-524-2728.
X-ALT-DESC;FMTTYPE=text/html:Join other adults for the library's crafting social hour.&nbsp; Meetings are on the second and fourth Mondays of the month, from 12 noon-1pm.&nbsp; If you would like more information, please call the reference desk at 310-524-2728.
LOCATION:
CLASS:PUBLIC
END:VEVENT
END:VCALENDAR
