BEGIN:VCALENDAR
VERSION:2.0
PRODID:El Segundo Calendar Creator
METHOD:PUBLISH
BEGIN:VEVENT
DTSTAMP:20220822T102428
DTSTART:20220822T120000
DTEND:20220822T130000
SUMMARY:Craft 'N Chat
DESCRIPTION:<p>Join other adults for the Library's crafting social hour.&nbsp; Meetings are on the second and fourth Mondays of the month, from Noon-1:00 p.m.&nbsp; </p><p>&nbsp;If you would like more information, please call the reference desk at 310-524-2728.</p>
X-ALT-DESC;FMTTYPE=text/html:<p>Join other adults for the Library's crafting social hour.&nbsp; Meetings are on the second and fourth Mondays of the month, from Noon-1:00 p.m.&nbsp; </p><p>&nbsp;If you would like more information, please call the reference desk at 310-524-2728.</p>
LOCATION:
CLASS:PUBLIC
END:VEVENT
END:VCALENDAR
