BEGIN:VCALENDAR
VERSION:2.0
PRODID:El Segundo Calendar Creator
METHOD:PUBLISH
BEGIN:VEVENT
DTSTAMP:20220707T200906
DTSTART:20220802T153000
DTEND:20220802T163000
SUMMARY:Crafteen at Stuft Pizza!
DESCRIPTION:<p>Crafteen<br>(Teens 12-17yrs)</p><p>Join us at <strong>STUFT PIZZA</strong> on Main street for a fun afternoon of making crafts and free pizza!<br>All supplies are included.&nbsp;</p>
X-ALT-DESC;FMTTYPE=text/html:<p>Crafteen<br>(Teens 12-17yrs)</p><p>Join us at <strong>STUFT PIZZA</strong> on Main street for a fun afternoon of making crafts and free pizza!<br>All supplies are included.&nbsp;</p>
LOCATION:Stuft Pizza\, 400 Main Street El Segundo\, California 90245
CLASS:PUBLIC
END:VEVENT
END:VCALENDAR
