BEGIN:VCALENDAR
VERSION:2.0
PRODID:El Segundo Calendar Creator
METHOD:PUBLISH
BEGIN:VEVENT
DTSTAMP:20220725T093942
DTSTART:20220730T090000
DTEND:20220730T110000
SUMMARY:El Segundo Beach Clean Up
DESCRIPTION:<p align="left"><iframe src="https://www.youtube.com/embed/e8s58QNv__Y" width="400" allowfullscreen="" height="300" frameborder="0"></iframe>&nbsp;</p><p align="left">Enjoy a day in the sun and help keep our beaches clean by volunteering for the Community Beach Clean-up at El Segundo Beach on Saturday, July 30, 2022, from 9:00-11:00 a.m., hosted by Kiwanis and Chevron.</p><p align="left">Thank you to the members of the City’s Environmental Committee who will be among the community volunteers!</p><p align="left">Commemorative t-shirts will be available for the first 150 volunteers and we hope you can bring your eco-energy out to participate!</p>
X-ALT-DESC;FMTTYPE=text/html:<p align="left"><iframe src="https://www.youtube.com/embed/e8s58QNv__Y" width="400" allowfullscreen="" height="300" frameborder="0"></iframe>&nbsp;</p><p align="left">Enjoy a day in the sun and help keep our beaches clean by volunteering for the Community Beach Clean-up at El Segundo Beach on Saturday, July 30, 2022, from 9:00-11:00 a.m., hosted by Kiwanis and Chevron.</p><p align="left">Thank you to the members of the City’s Environmental Committee who will be among the community volunteers!</p><p align="left">Commemorative t-shirts will be available for the first 150 volunteers and we hope you can bring your eco-energy out to participate!</p>
LOCATION:
CLASS:PUBLIC
END:VEVENT
END:VCALENDAR
