BEGIN:VCALENDAR
VERSION:2.0
PRODID:El Segundo Calendar Creator
METHOD:PUBLISH
BEGIN:VEVENT
DTSTAMP:20220629T121319
DTSTART:20220804T153000
DTEND:20220804T170000
SUMMARY:Teen Writing Series
DESCRIPTION:Teens ages 13-17 are invited to join our new Teen Writing Series Workshop led by writer Liz Lydic. Teens will explore, discover, and gain confidence through creative writing. We will meet Thursday, July 28 and, August 4, 3:30-5pm at El Segundo Public Library. Our last meeting will be on Thursday, August 11 at EsMoA.<br>
X-ALT-DESC;FMTTYPE=text/html:Teens ages 13-17 are invited to join our new Teen Writing Series Workshop led by writer Liz Lydic. Teens will explore, discover, and gain confidence through creative writing. We will meet Thursday, July 28 and, August 4, 3:30-5pm at El Segundo Public Library. Our last meeting will be on Thursday, August 11 at EsMoA.<br>
LOCATION:El Segundo Public Library\, 111 W. Mariposa Avenue El Segundo\, California 90245
CLASS:PUBLIC
END:VEVENT
END:VCALENDAR
