BEGIN:VCALENDAR
VERSION:2.0
PRODID:El Segundo Calendar Creator
METHOD:PUBLISH
BEGIN:VEVENT
DTSTAMP:20220725T094607
DTSTART:20220728T153000
DTEND:20220728T170000
SUMMARY:Teen Writing Series
DESCRIPTION:<p>Teens ages 13-17 are invited to join our new Teen Writing Series Workshop led by writer Liz Lydic. Teens will explore, discover, and gain confidence through creative writing. </p><p>We will meet Thursday, July 28th and, August 4th, from 3:30-5:00 p.m. at El Segundo Public Library. </p><p>Our last meeting will be on Thursday, August 11th at EsMoA.</p><br>
X-ALT-DESC;FMTTYPE=text/html:<p>Teens ages 13-17 are invited to join our new Teen Writing Series Workshop led by writer Liz Lydic. Teens will explore, discover, and gain confidence through creative writing. </p><p>We will meet Thursday, July 28th and, August 4th, from 3:30-5:00 p.m. at El Segundo Public Library. </p><p>Our last meeting will be on Thursday, August 11th at EsMoA.</p><br>
LOCATION:El Segundo Public Library\, 111 W. Mariposa Avenue El Segundo\, California 90245
CLASS:PUBLIC
END:VEVENT
END:VCALENDAR
