BEGIN:VCALENDAR
VERSION:2.0
PRODID:El Segundo Calendar Creator
METHOD:PUBLISH
BEGIN:VEVENT
DTSTAMP:20220705T134147
DTSTART:20220720T183000
DTEND:20220720T194500
SUMMARY:My Midlife Crisis: Musical Theater-Style!
DESCRIPTION:<p>Kim Bixler, author of <i>Growing Up in a Frank Lloyd Wright House</i> presents My Midlife Crisis: Musical Theater-Style!</p><p>Join South Bay resident Kim Bixler for an evening of stories, videos, and original songs collected from her first&nbsp; year attending NYU Tisch’s Musical Theater Graduate Writing Program. Kim went back to school after her own kids graduated from college. Catch Kim before one of her creations makes it to Broadway!!</p>
X-ALT-DESC;FMTTYPE=text/html:<p>Kim Bixler, author of <i>Growing Up in a Frank Lloyd Wright House</i> presents My Midlife Crisis: Musical Theater-Style!</p><p>Join South Bay resident Kim Bixler for an evening of stories, videos, and original songs collected from her first&nbsp; year attending NYU Tisch’s Musical Theater Graduate Writing Program. Kim went back to school after her own kids graduated from college. Catch Kim before one of her creations makes it to Broadway!!</p>
LOCATION:El Segundo Public Library\, 111 W. Mariposa Avenue El Segundo\, California 90245
CLASS:PUBLIC
END:VEVENT
END:VCALENDAR
