BEGIN:VCALENDAR
VERSION:2.0
PRODID:El Segundo Calendar Creator
METHOD:PUBLISH
BEGIN:VEVENT
DTSTAMP:20220606T084844
DTSTART:20220606T153000
DTEND:20220606T163000
SUMMARY:CANCELLED Bookworm Buddies
DESCRIPTION:<p>Grab your book and let's meet in Library Park on June 6th at 3:30 p.m. to discuss our current reads!<br>Book Club designed for ages 5-10.<br>Please bring a blanket or chair.</p><p>Children under 8 must be accompanied by an adult. For more details please call 310-524-2722 or email refdesk@elsegundo.org</p><p>&nbsp;</p>
X-ALT-DESC;FMTTYPE=text/html:<p>Grab your book and let's meet in Library Park on June 6th at 3:30 p.m. to discuss our current reads!<br>Book Club designed for ages 5-10.<br>Please bring a blanket or chair.</p><p>Children under 8 must be accompanied by an adult. For more details please call 310-524-2722 or email refdesk@elsegundo.org</p><p>&nbsp;</p>
LOCATION:Library Park\, 600 Block of Main Street El Segundo\, California 90245
CLASS:PUBLIC
END:VEVENT
END:VCALENDAR
