BEGIN:VCALENDAR
VERSION:2.0
PRODID:El Segundo Calendar Creator
METHOD:PUBLISH
BEGIN:VEVENT
DTSTAMP:20220524T092056
DTSTART:20220526T083000
DTEND:20220526T120000
SUMMARY:ESHS Civic Day Mock City Council Meeting
DESCRIPTION:
X-ALT-DESC;FMTTYPE=text/html:
LOCATION:City Council Chambers\, 350 Main St El Segundo\, California 90245
CLASS:PUBLIC
END:VEVENT
END:VCALENDAR
