BEGIN:VCALENDAR
VERSION:2.0
PRODID:El Segundo Calendar Creator
METHOD:PUBLISH
BEGIN:VEVENT
DTSTAMP:20220524T091547
DTSTART:20220803T153000
DTEND:20220803T161500
SUMMARY:Crafternoons
DESCRIPTION:<p><strong>Crafternoons<br></strong><strong>Ages 5-12yrs</strong></p><p>Join us in Library Park for fun&nbsp; crafts &amp; kid's activities.</p><p direction-ltr="" align-center="" para-style-body"="">Children under 8 must be accompanied by an adult.</p><p>&nbsp;</p>
X-ALT-DESC;FMTTYPE=text/html:<p><strong>Crafternoons<br></strong><strong>Ages 5-12yrs</strong></p><p>Join us in Library Park for fun&nbsp; crafts &amp; kid's activities.</p><p direction-ltr="" align-center="" para-style-body"="">Children under 8 must be accompanied by an adult.</p><p>&nbsp;</p>
LOCATION:Library Park\, 600 Block of Main Street El Segundo\, California 90245
CLASS:PUBLIC
END:VEVENT
END:VCALENDAR
