BEGIN:VCALENDAR
VERSION:2.0
PRODID:El Segundo Calendar Creator
METHOD:PUBLISH
BEGIN:VEVENT
DTSTAMP:20220516T155359
DTSTART:20220518T180000
DTEND:20220518T190000
SUMMARY:Artists' Talk + Reception
DESCRIPTION:<p>Experience 51: TIME</p><p>Wednesday, May 18, 6PM</p><p>El Segundo Public Library Reading Lounge 111 West Mariposa Avenue, El Segundo, CA 90245</p><p>Join us for a reception and talk with artists Carlos "Kopyeson" Talavera and Luke Hayes as they discuss the current ESMoA show Experience 51: TIME. Artists will give artists' remarks at 6:30PM. Please feel free to come with your questions about their artworks, or to be inspired. For more information, please contact the Reference Desk at 310-524-2728. We look forward to seeing you there!</p>
X-ALT-DESC;FMTTYPE=text/html:<p>Experience 51: TIME</p><p>Wednesday, May 18, 6PM</p><p>El Segundo Public Library Reading Lounge 111 West Mariposa Avenue, El Segundo, CA 90245</p><p>Join us for a reception and talk with artists Carlos "Kopyeson" Talavera and Luke Hayes as they discuss the current ESMoA show Experience 51: TIME. Artists will give artists' remarks at 6:30PM. Please feel free to come with your questions about their artworks, or to be inspired. For more information, please contact the Reference Desk at 310-524-2728. We look forward to seeing you there!</p>
LOCATION:El Segundo Public Library\, 111 W. Mariposa Avenue El Segundo\, California 90245
CLASS:PUBLIC
END:VEVENT
END:VCALENDAR
